BEGIN:VCALENDAR
VERSION:2.0
PRODID:-//McKay Creek Elementary - ECPv6.13.0//NONSGML v1.0//EN
CALSCALE:GREGORIAN
METHOD:PUBLISH
X-ORIGINAL-URL:https://mces.pendleton.k12.or.us
X-WR-CALDESC:Events for McKay Creek Elementary
REFRESH-INTERVAL;VALUE=DURATION:PT1H
X-Robots-Tag:noindex
X-PUBLISHED-TTL:PT1H
BEGIN:VTIMEZONE
TZID:America/Los_Angeles
BEGIN:DAYLIGHT
TZOFFSETFROM:-0800
TZOFFSETTO:-0700
TZNAME:PDT
DTSTART:20220313T100000
END:DAYLIGHT
BEGIN:STANDARD
TZOFFSETFROM:-0700
TZOFFSETTO:-0800
TZNAME:PST
DTSTART:20221106T090000
END:STANDARD
BEGIN:DAYLIGHT
TZOFFSETFROM:-0800
TZOFFSETTO:-0700
TZNAME:PDT
DTSTART:20230312T100000
END:DAYLIGHT
BEGIN:STANDARD
TZOFFSETFROM:-0700
TZOFFSETTO:-0800
TZNAME:PST
DTSTART:20231105T090000
END:STANDARD
BEGIN:DAYLIGHT
TZOFFSETFROM:-0800
TZOFFSETTO:-0700
TZNAME:PDT
DTSTART:20240310T100000
END:DAYLIGHT
BEGIN:STANDARD
TZOFFSETFROM:-0700
TZOFFSETTO:-0800
TZNAME:PST
DTSTART:20241103T090000
END:STANDARD
BEGIN:DAYLIGHT
TZOFFSETFROM:-0800
TZOFFSETTO:-0700
TZNAME:PDT
DTSTART:20250309T100000
END:DAYLIGHT
BEGIN:STANDARD
TZOFFSETFROM:-0700
TZOFFSETTO:-0800
TZNAME:PST
DTSTART:20251102T090000
END:STANDARD
BEGIN:DAYLIGHT
TZOFFSETFROM:-0800
TZOFFSETTO:-0700
TZNAME:PDT
DTSTART:20260308T100000
END:DAYLIGHT
BEGIN:STANDARD
TZOFFSETFROM:-0700
TZOFFSETTO:-0800
TZNAME:PST
DTSTART:20261101T090000
END:STANDARD
END:VTIMEZONE
BEGIN:VEVENT
DTSTART;TZID=America/Los_Angeles:20260305T153000
DTEND;TZID=America/Los_Angeles:20260305T191500
DTSTAMP:20260419T120609
CREATED:20260213T213116Z
LAST-MODIFIED:20260305T230109Z
UID:10002868-1772724600-1772738100@mces.pendleton.k12.or.us
SUMMARY:Evening Conferences (K-5)
DESCRIPTION:Evening Conferences for Grades K-5 at PELC\, McKay\, Sherwood\, and Washington Elementary Schools.\n3:30 pm – 7:15 pm
URL:https://mces.pendleton.k12.or.us/event/evening-conferences-k-5-2/
CATEGORIES:Early Learning Center,McKay Elementary School,Sherwood Elementary School,Washington Elementary School
END:VEVENT
BEGIN:VEVENT
DTSTART;TZID=America/Los_Angeles:20260303T153000
DTEND;TZID=America/Los_Angeles:20260303T193000
DTSTAMP:20260419T120609
CREATED:20260213T213116Z
LAST-MODIFIED:20260303T223101Z
UID:10002866-1772551800-1772566200@mces.pendleton.k12.or.us
SUMMARY:Evening Conferences (K-5)
DESCRIPTION:Grades K-5 evening conferences at the PELC\, McKay\, Sherwood\, and Washington Elementary Schools\n3:30 pm – 7:30 pm
URL:https://mces.pendleton.k12.or.us/event/evening-conferences-k-5/
CATEGORIES:Early Learning Center,McKay Elementary School,Sherwood Elementary School,Washington Elementary School
END:VEVENT
BEGIN:VEVENT
DTSTART;TZID=America/Los_Angeles:20251216T093000
DTEND;TZID=America/Los_Angeles:20251216T110000
DTSTAMP:20260419T120609
CREATED:20251205T173220Z
LAST-MODIFIED:20251216T184606Z
UID:10002863-1765877400-1765882800@mces.pendleton.k12.or.us
SUMMARY:Winter Programs
DESCRIPTION:Sherwood students invite you to their 2025 Winter Program.\nGrades 1\, 2\, & 3 – 9:30 AM\nGrades 4 & 5 – 10:15 AM
URL:https://mces.pendleton.k12.or.us/event/winter-programs-3/
CATEGORIES:Sherwood Elementary School
END:VEVENT
BEGIN:VEVENT
DTSTART;TZID=America/Los_Angeles:20241217T090000
DTEND;TZID=America/Los_Angeles:20241217T110000
DTSTAMP:20260419T120609
CREATED:20241128T120112Z
LAST-MODIFIED:20241217T130130Z
UID:10002700-1734426000-1734433200@mces.pendleton.k12.or.us
SUMMARY:Winter Concert
DESCRIPTION:Sherwood Elementary Winter Concert. \nGrades 1\, 2 & 3 – 9:00 AM\nGrades 4 & 5 – 10:00 AM
URL:https://mces.pendleton.k12.or.us/event/winter-concert-5/
CATEGORIES:Sherwood Elementary School
END:VEVENT
BEGIN:VEVENT
DTSTART;TZID=America/Los_Angeles:20240501T180000
DTEND;TZID=America/Los_Angeles:20240501T190000
DTSTAMP:20260419T120609
CREATED:20230908T081830Z
LAST-MODIFIED:20240501T214618Z
UID:10002489-1714586400-1714590000@mces.pendleton.k12.or.us
SUMMARY:Parents Club
DESCRIPTION:Sherwood Parents Club meets the first Wednesday of every month at 6:00 p.m. in the Sherwood Elementary cafeteria. Free childcare is provided to those in attendance. We hope to see you there!
URL:https://mces.pendleton.k12.or.us/event/parents-club-8/
CATEGORIES:Sherwood Elementary School
END:VEVENT
BEGIN:VEVENT
DTSTART;TZID=America/Los_Angeles:20240403T180000
DTEND;TZID=America/Los_Angeles:20240403T190000
DTSTAMP:20260419T120609
CREATED:20230908T081830Z
LAST-MODIFIED:20240403T194615Z
UID:10002488-1712167200-1712170800@mces.pendleton.k12.or.us
SUMMARY:Parents Club
DESCRIPTION:Sherwood Parents Club meets the first Wednesday of every month at 6:00 p.m. in the Sherwood Elementary cafeteria. Free childcare is provided to those in attendance. We hope to see you there!
URL:https://mces.pendleton.k12.or.us/event/parents-club-7/
CATEGORIES:Sherwood Elementary School
END:VEVENT
BEGIN:VEVENT
DTSTART;TZID=America/Los_Angeles:20240306T180000
DTEND;TZID=America/Los_Angeles:20240306T190000
DTSTAMP:20260419T120609
CREATED:20230908T081829Z
LAST-MODIFIED:20240305T181608Z
UID:10002487-1709748000-1709751600@mces.pendleton.k12.or.us
SUMMARY:Parents Club
DESCRIPTION:Sherwood Parents Club meets the first Wednesday of every month at 6:00 p.m. in the Sherwood Elementary cafeteria. Free childcare is provided to those in attendance. We hope to see you there!
URL:https://mces.pendleton.k12.or.us/event/parents-club-6/
CATEGORIES:Sherwood Elementary School
END:VEVENT
BEGIN:VEVENT
DTSTART;TZID=America/Los_Angeles:20240207T180000
DTEND;TZID=America/Los_Angeles:20240207T190000
DTSTAMP:20260419T120609
CREATED:20230908T081829Z
LAST-MODIFIED:20240207T170107Z
UID:10002486-1707328800-1707332400@mces.pendleton.k12.or.us
SUMMARY:Parents Club
DESCRIPTION:Sherwood Parents Club meets the first Wednesday of every month at 6:00 p.m. in the Sherwood Elementary cafeteria. Free childcare is provided to those in attendance. We hope to see you there!
URL:https://mces.pendleton.k12.or.us/event/parents-club-5/
CATEGORIES:Sherwood Elementary School
END:VEVENT
BEGIN:VEVENT
DTSTART;TZID=America/Los_Angeles:20240103T180000
DTEND;TZID=America/Los_Angeles:20240103T190000
DTSTAMP:20260419T120609
CREATED:20230908T081829Z
LAST-MODIFIED:20240103T151644Z
UID:10002485-1704304800-1704308400@mces.pendleton.k12.or.us
SUMMARY:Parents Club
DESCRIPTION:Sherwood Parents Club meets the first Wednesday of every month at 6:00 p.m. in the Sherwood Elementary cafeteria. Free childcare is provided to those in attendance. We hope to see you there!
URL:https://mces.pendleton.k12.or.us/event/parents-club-4/
CATEGORIES:Sherwood Elementary School
END:VEVENT
BEGIN:VEVENT
DTSTART;TZID=America/Los_Angeles:20231212T083000
DTEND;TZID=America/Los_Angeles:20231212T103000
DTSTAMP:20260419T120609
CREATED:20231109T120110Z
LAST-MODIFIED:20231212T143412Z
UID:10002524-1702369800-1702377000@mces.pendleton.k12.or.us
SUMMARY:Winter Concerts
DESCRIPTION:Sherwood will have their winter concerts on Tuesday\, December 12 at the following times: \n8:30 am – Grades 1 & 2\n9:30 am – Grades 3\, 4 & 5
URL:https://mces.pendleton.k12.or.us/event/winter-concerts-2/
CATEGORIES:Sherwood Elementary School
END:VEVENT
BEGIN:VEVENT
DTSTART;TZID=America/Los_Angeles:20231206T180000
DTEND;TZID=America/Los_Angeles:20231206T190000
DTSTAMP:20260419T120609
CREATED:20230908T081828Z
LAST-MODIFIED:20231206T141810Z
UID:10002484-1701885600-1701889200@mces.pendleton.k12.or.us
SUMMARY:Parents Club
DESCRIPTION:Sherwood Parents Club meets the first Wednesday of every month at 6:00 p.m. in the Sherwood Elementary cafeteria. Free childcare is provided to those in attendance. We hope to see you there!
URL:https://mces.pendleton.k12.or.us/event/parents-club-3/
CATEGORIES:Sherwood Elementary School
END:VEVENT
BEGIN:VEVENT
DTSTART;TZID=America/Los_Angeles:20231101T180000
DTEND;TZID=America/Los_Angeles:20231101T190000
DTSTAMP:20260419T120609
CREATED:20230908T081828Z
LAST-MODIFIED:20231101T120209Z
UID:10002483-1698861600-1698865200@mces.pendleton.k12.or.us
SUMMARY:Parents Club
DESCRIPTION:Sherwood Parents Club meets the first Wednesday of every month at 6:00 p.m. in the Sherwood Elementary cafeteria. Free childcare is provided to those in attendance. We hope to see you there!
URL:https://mces.pendleton.k12.or.us/event/parents-club-2/
CATEGORIES:Sherwood Elementary School
END:VEVENT
BEGIN:VEVENT
DTSTART;TZID=America/Los_Angeles:20231004T180000
DTEND;TZID=America/Los_Angeles:20231004T190000
DTSTAMP:20260419T120609
CREATED:20230908T081827Z
LAST-MODIFIED:20231004T094856Z
UID:10002482-1696442400-1696446000@mces.pendleton.k12.or.us
SUMMARY:Parents Club
DESCRIPTION:Sherwood Parents Club meets the first Wednesday of every month at 6:00 p.m. in the Sherwood Elementary cafeteria. Free childcare is provided to those in attendance. We hope to see you there!
URL:https://mces.pendleton.k12.or.us/event/parents-club/
CATEGORIES:Sherwood Elementary School
END:VEVENT
BEGIN:VEVENT
DTSTART;TZID=America/Los_Angeles:20230824T163000
DTEND;TZID=America/Los_Angeles:20230824T183000
DTSTAMP:20260419T120609
CREATED:20230613T130822Z
LAST-MODIFIED:20230824T073113Z
UID:10002302-1692894600-1692901800@mces.pendleton.k12.or.us
SUMMARY:Open House – Grades 1-5
DESCRIPTION:McKay/Sherwood/Washington Elementary will host an open house from 4:30-6:30
URL:https://mces.pendleton.k12.or.us/event/open-house/
CATEGORIES:McKay Elementary School,Sherwood Elementary School,Washington Elementary School
END:VEVENT
BEGIN:VEVENT
DTSTART;TZID=America/Los_Angeles:20230608T083000
DTEND;TZID=America/Los_Angeles:20230608T114500
DTSTAMP:20260419T120609
CREATED:20230517T102125Z
LAST-MODIFIED:20230608T122200Z
UID:10002382-1686213000-1686224700@mces.pendleton.k12.or.us
SUMMARY:Grade 2 Walk
DESCRIPTION:Sherwood 2nd grade walk to Rice Park from 8:30-11:45
URL:https://mces.pendleton.k12.or.us/event/grade-2-walk/
CATEGORIES:Sherwood Elementary School
END:VEVENT
BEGIN:VEVENT
DTSTART;TZID=America/Los_Angeles:20230606T103000
DTEND;TZID=America/Los_Angeles:20230606T133000
DTSTAMP:20260419T120609
CREATED:20230517T102125Z
LAST-MODIFIED:20230606T120459Z
UID:10002377-1686047400-1686058200@mces.pendleton.k12.or.us
SUMMARY:Grade 3 Picnic
DESCRIPTION:Sherwood 3rd grade picnic at McKay Park from 10:30-1:30
URL:https://mces.pendleton.k12.or.us/event/grade-3-picnic/
CATEGORIES:Sherwood Elementary School
END:VEVENT
BEGIN:VEVENT
DTSTART;TZID=America/Los_Angeles:20230601T080000
DTEND;TZID=America/Los_Angeles:20230601T140000
DTSTAMP:20260419T120609
CREATED:20230517T102124Z
LAST-MODIFIED:20230601T113441Z
UID:10002245-1685606400-1685628000@mces.pendleton.k12.or.us
SUMMARY:Grade 3 Field Trip
DESCRIPTION:Sherwood 3rd grade field trip to Sage Center
URL:https://mces.pendleton.k12.or.us/event/grade-3-field-trip-2/
CATEGORIES:Sherwood Elementary School
END:VEVENT
BEGIN:VEVENT
DTSTART;TZID=America/Los_Angeles:20221215T090000
DTEND;TZID=America/Los_Angeles:20221215T133000
DTSTAMP:20260419T120609
CREATED:20221206T203250Z
LAST-MODIFIED:20221215T222451Z
UID:10002352-1671094800-1671111000@mces.pendleton.k12.or.us
SUMMARY:Sherwood Winter Programs
DESCRIPTION:Grades 1 & 2: 9:00 – 9:30 am\nGrades 3\, 4 & 5: 1:00 – 1:30 pm
URL:https://mces.pendleton.k12.or.us/event/sherwood-winter-programs/
CATEGORIES:Sherwood Elementary School
END:VEVENT
BEGIN:VEVENT
DTSTART;TZID=America/Los_Angeles:20221130T085000
DTEND;TZID=America/Los_Angeles:20221130T091000
DTSTAMP:20260419T120609
CREATED:20221105T165310Z
LAST-MODIFIED:20221130T200253Z
UID:10002342-1669798200-1669799400@mces.pendleton.k12.or.us
SUMMARY:4th Grade Concert
DESCRIPTION:The 4th grade classes will be presenting their winter concert in the Sherwood gym at 8:50 am.
URL:https://mces.pendleton.k12.or.us/event/4th-grade-concert/
CATEGORIES:Sherwood Elementary School
END:VEVENT
BEGIN:VEVENT
DTSTART;TZID=America/Los_Angeles:20221116T095000
DTEND;TZID=America/Los_Angeles:20221116T101000
DTSTAMP:20260419T120609
CREATED:20221105T165310Z
LAST-MODIFIED:20221116T182151Z
UID:10002341-1668592200-1668593400@mces.pendleton.k12.or.us
SUMMARY:3rd Grade Concert
DESCRIPTION:The 3rd graders will be presenting their winter concert in the Sherwood Gym at 9:50 am.
URL:https://mces.pendleton.k12.or.us/event/3rd-grade-concert/
CATEGORIES:Sherwood Elementary School
END:VEVENT
END:VCALENDAR