BEGIN:VCALENDAR
VERSION:2.0
PRODID:-//McKay Creek Elementary - ECPv6.13.0//NONSGML v1.0//EN
CALSCALE:GREGORIAN
METHOD:PUBLISH
X-ORIGINAL-URL:https://mces.pendleton.k12.or.us
X-WR-CALDESC:Events for McKay Creek Elementary
REFRESH-INTERVAL;VALUE=DURATION:PT1H
X-Robots-Tag:noindex
X-PUBLISHED-TTL:PT1H
BEGIN:VTIMEZONE
TZID:America/Los_Angeles
BEGIN:DAYLIGHT
TZOFFSETFROM:-0800
TZOFFSETTO:-0700
TZNAME:PDT
DTSTART:20220313T100000
END:DAYLIGHT
BEGIN:STANDARD
TZOFFSETFROM:-0700
TZOFFSETTO:-0800
TZNAME:PST
DTSTART:20221106T090000
END:STANDARD
END:VTIMEZONE
BEGIN:VEVENT
DTSTART;VALUE=DATE:20220711
DTEND;VALUE=DATE:20220712
DTSTAMP:20260420T184826
CREATED:20220514T115548Z
LAST-MODIFIED:20220711T211743Z
UID:10002219-1657497600-1657583999@mces.pendleton.k12.or.us
SUMMARY:Fall Sports – First Day to register online
DESCRIPTION:To register for the first time or to update a previous registration. \nOnline Registration Form \nQuestions?  Call the Athletic Office at 541-966-3802 \n 
URL:https://mces.pendleton.k12.or.us/event/fall-sports-first-day-to-register-online/
CATEGORIES:Pendleton High School
END:VEVENT
END:VCALENDAR