BEGIN:VCALENDAR
VERSION:2.0
PRODID:-//McKay Creek Elementary - ECPv6.13.0//NONSGML v1.0//EN
CALSCALE:GREGORIAN
METHOD:PUBLISH
X-ORIGINAL-URL:https://mces.pendleton.k12.or.us
X-WR-CALDESC:Events for McKay Creek Elementary
REFRESH-INTERVAL;VALUE=DURATION:PT1H
X-Robots-Tag:noindex
X-PUBLISHED-TTL:PT1H
BEGIN:VTIMEZONE
TZID:America/Los_Angeles
BEGIN:DAYLIGHT
TZOFFSETFROM:-0800
TZOFFSETTO:-0700
TZNAME:PDT
DTSTART:20230312T100000
END:DAYLIGHT
BEGIN:STANDARD
TZOFFSETFROM:-0700
TZOFFSETTO:-0800
TZNAME:PST
DTSTART:20231105T090000
END:STANDARD
END:VTIMEZONE
BEGIN:VEVENT
DTSTART;TZID=America/Los_Angeles:20231204T080000
DTEND;TZID=America/Los_Angeles:20231204T170000
DTSTAMP:20260419T112759
CREATED:20231003T173246Z
LAST-MODIFIED:20231003T173246Z
UID:10002518-1701676800-1701709200@mces.pendleton.k12.or.us
SUMMARY:MES - Parent Club Meeting
DESCRIPTION:MES – Parent Club Meeting
URL:https://mces.pendleton.k12.or.us/event/mes-parent-club-meeting-2/
CATEGORIES:McKay Elementary School
END:VEVENT
BEGIN:VEVENT
DTSTART;VALUE=DATE:20231205
DTEND;VALUE=DATE:20231206
DTSTAMP:20260419T112759
CREATED:20231003T154405Z
LAST-MODIFIED:20231003T160145Z
UID:10002509-1701734400-1701820799@mces.pendleton.k12.or.us
SUMMARY:MES - Movie Night
DESCRIPTION:McKay Creek Elementary\, Parent Club\, Movie Night!
URL:https://mces.pendleton.k12.or.us/event/mes-movie-night/
CATEGORIES:McKay Elementary School
END:VEVENT
BEGIN:VEVENT
DTSTART;VALUE=DATE:20231206
DTEND;VALUE=DATE:20231207
DTSTAMP:20260419T112759
CREATED:20231127T172459Z
LAST-MODIFIED:20231127T172459Z
UID:10002528-1701820800-1701907199@mces.pendleton.k12.or.us
SUMMARY:MES - Holiday Programs (see different times)
DESCRIPTION:9:30 am — 1st and 2nd (Phillips\, Whitten\, Hancock\, Leighty & Cook)\n10:30 am — 5th and Smith (Walters\, Noble & Smith)\n1:30 pm — 3rd and Deutz (Deutz\, Erwin & Mead)
URL:https://mces.pendleton.k12.or.us/event/mes-holiday-programs-see-different-times/
LOCATION:McKay Creek Elementary
CATEGORIES:McKay Elementary School
END:VEVENT
END:VCALENDAR