BEGIN:VCALENDAR
VERSION:2.0
PRODID:-//McKay Creek Elementary - ECPv6.13.0//NONSGML v1.0//EN
CALSCALE:GREGORIAN
METHOD:PUBLISH
X-ORIGINAL-URL:https://mces.pendleton.k12.or.us
X-WR-CALDESC:Events for McKay Creek Elementary
REFRESH-INTERVAL;VALUE=DURATION:PT1H
X-Robots-Tag:noindex
X-PUBLISHED-TTL:PT1H
BEGIN:VTIMEZONE
TZID:America/Los_Angeles
BEGIN:DAYLIGHT
TZOFFSETFROM:-0800
TZOFFSETTO:-0700
TZNAME:PDT
DTSTART:20230312T100000
END:DAYLIGHT
BEGIN:STANDARD
TZOFFSETFROM:-0700
TZOFFSETTO:-0800
TZNAME:PST
DTSTART:20231105T090000
END:STANDARD
END:VTIMEZONE
BEGIN:VEVENT
DTSTART;VALUE=DATE:20231113
DTEND;VALUE=DATE:20231118
DTSTAMP:20260419T160859
CREATED:20231003T153853Z
LAST-MODIFIED:20231003T160218Z
UID:10002505-1699833600-1700265599@mces.pendleton.k12.or.us
SUMMARY:MES - Book Fair
DESCRIPTION:McKay Book Fair
URL:https://mces.pendleton.k12.or.us/event/mes-book-fair/
CATEGORIES:McKay Elementary School
END:VEVENT
BEGIN:VEVENT
DTSTART;VALUE=DATE:20231114
DTEND;VALUE=DATE:20231115
DTSTAMP:20260419T160859
CREATED:20231003T154258Z
LAST-MODIFIED:20231003T160212Z
UID:10002508-1699920000-1700006399@mces.pendleton.k12.or.us
SUMMARY:MES - Books for Bingo
DESCRIPTION:Our Annual Books for Bingo held at McKay Creek Elementary.
URL:https://mces.pendleton.k12.or.us/event/mes-books-for-bingo/
CATEGORIES:McKay Elementary School
END:VEVENT
END:VCALENDAR