BEGIN:VCALENDAR
VERSION:2.0
PRODID:-//McKay Creek Elementary - ECPv6.13.0//NONSGML v1.0//EN
CALSCALE:GREGORIAN
METHOD:PUBLISH
X-ORIGINAL-URL:https://mces.pendleton.k12.or.us
X-WR-CALDESC:Events for McKay Creek Elementary
REFRESH-INTERVAL;VALUE=DURATION:PT1H
X-Robots-Tag:noindex
X-PUBLISHED-TTL:PT1H
BEGIN:VTIMEZONE
TZID:America/Los_Angeles
BEGIN:DAYLIGHT
TZOFFSETFROM:-0800
TZOFFSETTO:-0700
TZNAME:PDT
DTSTART:20230312T100000
END:DAYLIGHT
BEGIN:STANDARD
TZOFFSETFROM:-0700
TZOFFSETTO:-0800
TZNAME:PST
DTSTART:20231105T090000
END:STANDARD
END:VTIMEZONE
BEGIN:VEVENT
DTSTART;VALUE=DATE:20231106
DTEND;VALUE=DATE:20231107
DTSTAMP:20260419T144311
CREATED:20231003T173215Z
LAST-MODIFIED:20231003T173307Z
UID:10002517-1699228800-1699315199@mces.pendleton.k12.or.us
SUMMARY:MES - Parent Club Meeting
DESCRIPTION:
URL:https://mces.pendleton.k12.or.us/event/mes-parent-club-meeting/
CATEGORIES:McKay Elementary School
END:VEVENT
BEGIN:VEVENT
DTSTART;VALUE=DATE:20231107
DTEND;VALUE=DATE:20231108
DTSTAMP:20260419T144311
CREATED:20231003T152401Z
LAST-MODIFIED:20231016T163300Z
UID:10002498-1699315200-1699401599@mces.pendleton.k12.or.us
SUMMARY:MES - Picture Retakes
DESCRIPTION:Student Retakes \nPre order here: https://www.barksdalestorefront.com/shop/login/?ac=0100369AR
URL:https://mces.pendleton.k12.or.us/event/mckay-picture-retakes/
CATEGORIES:McKay Elementary School
END:VEVENT
BEGIN:VEVENT
DTSTART;VALUE=DATE:20231109
DTEND;VALUE=DATE:20231110
DTSTAMP:20260419T144311
CREATED:20231003T154135Z
LAST-MODIFIED:20231003T160229Z
UID:10002507-1699488000-1699574399@mces.pendleton.k12.or.us
SUMMARY:MES - Hearing Checks
DESCRIPTION:Hearing checks for 1st and 3rd grade students at McKay
URL:https://mces.pendleton.k12.or.us/event/mes-hearing-checks/
CATEGORIES:McKay Elementary School
END:VEVENT
END:VCALENDAR