BEGIN:VCALENDAR
VERSION:2.0
PRODID:-//McKay Creek Elementary - ECPv6.13.0//NONSGML v1.0//EN
CALSCALE:GREGORIAN
METHOD:PUBLISH
X-WR-CALNAME:McKay Creek Elementary
X-ORIGINAL-URL:https://mces.pendleton.k12.or.us
X-WR-CALDESC:Events for McKay Creek Elementary
REFRESH-INTERVAL;VALUE=DURATION:PT1H
X-Robots-Tag:noindex
X-PUBLISHED-TTL:PT1H
BEGIN:VTIMEZONE
TZID:America/Los_Angeles
BEGIN:DAYLIGHT
TZOFFSETFROM:-0800
TZOFFSETTO:-0700
TZNAME:PDT
DTSTART:20240310T100000
END:DAYLIGHT
BEGIN:STANDARD
TZOFFSETFROM:-0700
TZOFFSETTO:-0800
TZNAME:PST
DTSTART:20241103T090000
END:STANDARD
END:VTIMEZONE
BEGIN:VEVENT
DTSTART;VALUE=DATE:20240301
DTEND;VALUE=DATE:20240302
DTSTAMP:20260419T052804
CREATED:20231003T155559Z
LAST-MODIFIED:20231003T160010Z
UID:10002514-1709251200-1709337599@mces.pendleton.k12.or.us
SUMMARY:MES - "Seuss Yourself" - Wear red and white or dress as your favorite Dr. Seuss Character!
DESCRIPTION:MES – “Seuss Yourself” – Wear red and white or dress as your favorite Dr. Seuss Character!
URL:https://mces.pendleton.k12.or.us/event/mes-seuss-yourself-wear-red-and-white-or-dress-as-your-favorite-dr-seuss-character/
CATEGORIES:McKay Elementary School
END:VEVENT
END:VCALENDAR