BEGIN:VCALENDAR
VERSION:2.0
PRODID:-//McKay Creek Elementary - ECPv6.13.0//NONSGML v1.0//EN
CALSCALE:GREGORIAN
METHOD:PUBLISH
X-ORIGINAL-URL:https://mces.pendleton.k12.or.us
X-WR-CALDESC:Events for McKay Creek Elementary
REFRESH-INTERVAL;VALUE=DURATION:PT1H
X-Robots-Tag:noindex
X-PUBLISHED-TTL:PT1H
BEGIN:VTIMEZONE
TZID:America/Los_Angeles
BEGIN:DAYLIGHT
TZOFFSETFROM:-0800
TZOFFSETTO:-0700
TZNAME:PDT
DTSTART:20230312T100000
END:DAYLIGHT
BEGIN:STANDARD
TZOFFSETFROM:-0700
TZOFFSETTO:-0800
TZNAME:PST
DTSTART:20231105T090000
END:STANDARD
END:VTIMEZONE
BEGIN:VEVENT
DTSTART;TZID=America/Los_Angeles:20231031T133000
DTEND;TZID=America/Los_Angeles:20231031T140000
DTSTAMP:20260419T112915
CREATED:20231025T213738Z
LAST-MODIFIED:20231025T213759Z
UID:10002523-1698759000-1698760800@mces.pendleton.k12.or.us
SUMMARY:Halloween Costume Parade
DESCRIPTION:
URL:https://mces.pendleton.k12.or.us/event/halloween-costume-parade/
CATEGORIES:McKay Elementary School
END:VEVENT
END:VCALENDAR