BEGIN:VCALENDAR
VERSION:2.0
PRODID:-//McKay Creek Elementary - ECPv6.13.0//NONSGML v1.0//EN
CALSCALE:GREGORIAN
METHOD:PUBLISH
X-WR-CALNAME:McKay Creek Elementary
X-ORIGINAL-URL:https://mces.pendleton.k12.or.us
X-WR-CALDESC:Events for McKay Creek Elementary
REFRESH-INTERVAL;VALUE=DURATION:PT1H
X-Robots-Tag:noindex
X-PUBLISHED-TTL:PT1H
BEGIN:VTIMEZONE
TZID:America/Los_Angeles
BEGIN:DAYLIGHT
TZOFFSETFROM:-0800
TZOFFSETTO:-0700
TZNAME:PDT
DTSTART:20200308T100000
END:DAYLIGHT
BEGIN:STANDARD
TZOFFSETFROM:-0700
TZOFFSETTO:-0800
TZNAME:PST
DTSTART:20201101T090000
END:STANDARD
END:VTIMEZONE
BEGIN:VEVENT
DTSTART;TZID=America/Los_Angeles:20200608T080000
DTEND;TZID=America/Los_Angeles:20200608T160000
DTSTAMP:20260419T201139
CREATED:20200605T191403Z
LAST-MODIFIED:20200608T201109Z
UID:10001252-1591603200-1591632000@mces.pendleton.k12.or.us
SUMMARY:Chromebook Collection
DESCRIPTION:It’s time to return the Chromebooks! \nWhere: Pendleton School District Gym @ 107 NW 10th Street \nWhen: June 5\, 8 – 11\, 2020 \nTime: 8 am – 4 pm
URL:https://mces.pendleton.k12.or.us/event/chromebook-collection-2/
CATEGORIES:District Wide
END:VEVENT
BEGIN:VEVENT
DTSTART;TZID=America/Los_Angeles:20200605T080000
DTEND;TZID=America/Los_Angeles:20200605T160000
DTSTAMP:20260419T201139
CREATED:20200605T191403Z
LAST-MODIFIED:20200605T191403Z
UID:10001251-1591344000-1591372800@mces.pendleton.k12.or.us
SUMMARY:Chromebook Collection
DESCRIPTION:It’s time to return the Chromebooks! \nWhere: Pendleton School District Gym @ 107 NW 10th Street \nWhen: June 5\, 8 – 11\, 2020 \nTime: 8 am – 4 pm
URL:https://mces.pendleton.k12.or.us/event/chromebook-collection/
CATEGORIES:District Wide
END:VEVENT
BEGIN:VEVENT
DTSTART;VALUE=DATE:20200525
DTEND;VALUE=DATE:20200526
DTSTAMP:20260419T201139
CREATED:20200409T144832Z
LAST-MODIFIED:20200525T170632Z
UID:10001233-1590364800-1590451199@mces.pendleton.k12.or.us
SUMMARY:Memorial Day
DESCRIPTION:No School
URL:https://mces.pendleton.k12.or.us/event/memorial-day/
CATEGORIES:District Wide
END:VEVENT
BEGIN:VEVENT
DTSTART;TZID=America/Los_Angeles:20200521T180000
DTEND;TZID=America/Los_Angeles:20200521T190000
DTSTAMP:20260419T201139
CREATED:20200514T154215Z
LAST-MODIFIED:20200514T154401Z
UID:10001242-1590084000-1590087600@mces.pendleton.k12.or.us
SUMMARY:Budget Committee Meeting
DESCRIPTION:The Budget Committee meeting will be held virtually via Zoom hosted by IMESD at 6:00 pm.
URL:https://mces.pendleton.k12.or.us/event/budget-committee-meeting/
CATEGORIES:District Wide
END:VEVENT
BEGIN:VEVENT
DTSTART;VALUE=DATE:20200413
DTEND;VALUE=DATE:20200414
DTSTAMP:20260419T201139
CREATED:20200417T161605Z
LAST-MODIFIED:20200417T161605Z
UID:10001240-1586736000-1586822399@mces.pendleton.k12.or.us
SUMMARY:Distance learning for all begins
DESCRIPTION:All students will begin distance learning using their grade level courses and materials. \nFor more information\, use our coronavirus resource page located at the top of every page for school specific information.
URL:https://mces.pendleton.k12.or.us/event/distance-learning-for-all-begins/
CATEGORIES:District Wide
END:VEVENT
END:VCALENDAR