BEGIN:VCALENDAR
VERSION:2.0
PRODID:-//McKay Creek Elementary - ECPv6.13.0//NONSGML v1.0//EN
CALSCALE:GREGORIAN
METHOD:PUBLISH
X-WR-CALNAME:McKay Creek Elementary
X-ORIGINAL-URL:https://mces.pendleton.k12.or.us
X-WR-CALDESC:Events for McKay Creek Elementary
REFRESH-INTERVAL;VALUE=DURATION:PT1H
X-Robots-Tag:noindex
X-PUBLISHED-TTL:PT1H
BEGIN:VTIMEZONE
TZID:America/Los_Angeles
BEGIN:DAYLIGHT
TZOFFSETFROM:-0800
TZOFFSETTO:-0700
TZNAME:PDT
DTSTART:20230312T100000
END:DAYLIGHT
BEGIN:STANDARD
TZOFFSETFROM:-0700
TZOFFSETTO:-0800
TZNAME:PST
DTSTART:20231105T090000
END:STANDARD
END:VTIMEZONE
BEGIN:VEVENT
DTSTART;VALUE=DATE:20230601
DTEND;VALUE=DATE:20230602
DTSTAMP:20260419T152407
CREATED:20220601T150228Z
LAST-MODIFIED:20230601T113441Z
UID:10002324-1685577600-1685663999@mces.pendleton.k12.or.us
SUMMARY:Seniors Last Day
DESCRIPTION:
URL:https://mces.pendleton.k12.or.us/event/seniors-last-day-4/
CATEGORIES:District Wide
END:VEVENT
BEGIN:VEVENT
DTSTART;TZID=America/Los_Angeles:20230602T103000
DTEND;TZID=America/Los_Angeles:20230602T120000
DTSTAMP:20260419T152407
CREATED:20230517T102125Z
LAST-MODIFIED:20230602T114811Z
UID:10002250-1685701800-1685707200@mces.pendleton.k12.or.us
SUMMARY:Seniors Visit Elementary Schools
DESCRIPTION:Class of 2023 Seniors will walk through their elementary schools in their cap and gown after graduation practice.
URL:https://mces.pendleton.k12.or.us/event/seniors-visit-elementary-schools/
CATEGORIES:District Wide
END:VEVENT
BEGIN:VEVENT
DTSTART;TZID=America/Los_Angeles:20230603T100000
DTEND;TZID=America/Los_Angeles:20230603T113000
DTSTAMP:20260419T152407
CREATED:20220603T150237Z
LAST-MODIFIED:20230603T114944Z
UID:10002325-1685786400-1685791800@mces.pendleton.k12.or.us
SUMMARY:PHS Graduation
DESCRIPTION:PHS Graduation in Round-Up Stadium at 10 am.  The live stream will air on the PHS Media YouTube account https://youtube.com/@PHSMedia \nCeremony begins at 10:00 am in the Round-Up Stadium.\nGates open at 9:00 am\nSeating is in the West end of the stadium\nPrograms are handed out in three locations (Top of stairs to West Grandstands. Bottom of rail to West Grandstands. South entrance)\nBathrooms are open on the second level of West Grandstands\nSuggestion: Bring a water bottle with you
URL:https://mces.pendleton.k12.or.us/event/phs-graduation-3/
CATEGORIES:District Wide
END:VEVENT
BEGIN:VEVENT
DTSTART;VALUE=DATE:20230605
DTEND;VALUE=DATE:20230606
DTSTAMP:20260419T152407
CREATED:20220605T154526Z
LAST-MODIFIED:20230605T115143Z
UID:10002327-1685923200-1686009599@mces.pendleton.k12.or.us
SUMMARY:Late Start
DESCRIPTION:
URL:https://mces.pendleton.k12.or.us/event/late-start-31/
CATEGORIES:District Wide
END:VEVENT
BEGIN:VEVENT
DTSTART;TZID=America/Los_Angeles:20230605T093000
DTEND;TZID=America/Los_Angeles:20230605T140000
DTSTAMP:20260419T152407
CREATED:20230517T102125Z
LAST-MODIFIED:20230605T115143Z
UID:10002374-1685957400-1685973600@mces.pendleton.k12.or.us
SUMMARY:Track Meet 5th Grade
DESCRIPTION:Track meet for all 5th graders at PHS Track
URL:https://mces.pendleton.k12.or.us/event/track-meet-5th-grade/
CATEGORIES:District Wide
END:VEVENT
BEGIN:VEVENT
DTSTART;TZID=America/Los_Angeles:20230606T093000
DTEND;TZID=America/Los_Angeles:20230606T140000
DTSTAMP:20260419T152407
CREATED:20230517T102125Z
LAST-MODIFIED:20230606T120459Z
UID:10002376-1686043800-1686060000@mces.pendleton.k12.or.us
SUMMARY:Track Meet 4th Grade
DESCRIPTION:Track meet for all 4th graders at PHS Track
URL:https://mces.pendleton.k12.or.us/event/track-meet-4th-grade/
CATEGORIES:District Wide
END:VEVENT
BEGIN:VEVENT
DTSTART;TZID=America/Los_Angeles:20230607T093000
DTEND;TZID=America/Los_Angeles:20230607T140000
DTSTAMP:20260419T152407
CREATED:20230517T102125Z
LAST-MODIFIED:20230607T121204Z
UID:10002379-1686130200-1686146400@mces.pendleton.k12.or.us
SUMMARY:Track Meet 3rd Grade
DESCRIPTION:Track meet for all 3rd graders at PHS Track
URL:https://mces.pendleton.k12.or.us/event/track-meet-3rd-grade/
CATEGORIES:District Wide
END:VEVENT
BEGIN:VEVENT
DTSTART;VALUE=DATE:20230608
DTEND;VALUE=DATE:20230609
DTSTAMP:20260419T152407
CREATED:20220608T155109Z
LAST-MODIFIED:20230608T122200Z
UID:10002330-1686182400-1686268799@mces.pendleton.k12.or.us
SUMMARY:Last Day of School – 2 Hr Early Release
DESCRIPTION:
URL:https://mces.pendleton.k12.or.us/event/last-day-of-school-2-hr-early-release/
CATEGORIES:District Wide
END:VEVENT
BEGIN:VEVENT
DTSTART;VALUE=DATE:20230608
DTEND;VALUE=DATE:20230609
DTSTAMP:20260419T152407
CREATED:20220609T160907Z
LAST-MODIFIED:20230608T122200Z
UID:10002332-1686182400-1686268799@mces.pendleton.k12.or.us
SUMMARY:End of 2nd Semester
DESCRIPTION:
URL:https://mces.pendleton.k12.or.us/event/end-of-2nd-semester/
CATEGORIES:District Wide
END:VEVENT
BEGIN:VEVENT
DTSTART;VALUE=DATE:20230609
DTEND;VALUE=DATE:20230610
DTSTAMP:20260419T152407
CREATED:20220609T160907Z
LAST-MODIFIED:20230609T123253Z
UID:10002331-1686268800-1686355199@mces.pendleton.k12.or.us
SUMMARY:Staff In-Service – No School
DESCRIPTION:
URL:https://mces.pendleton.k12.or.us/event/staff-in-service-no-school-6/
CATEGORIES:District Wide
END:VEVENT
END:VCALENDAR