BEGIN:VCALENDAR
VERSION:2.0
PRODID:-//McKay Creek Elementary - ECPv6.13.0//NONSGML v1.0//EN
CALSCALE:GREGORIAN
METHOD:PUBLISH
X-ORIGINAL-URL:https://mces.pendleton.k12.or.us
X-WR-CALDESC:Events for McKay Creek Elementary
REFRESH-INTERVAL;VALUE=DURATION:PT1H
X-Robots-Tag:noindex
X-PUBLISHED-TTL:PT1H
BEGIN:VTIMEZONE
TZID:America/Los_Angeles
BEGIN:DAYLIGHT
TZOFFSETFROM:-0800
TZOFFSETTO:-0700
TZNAME:PDT
DTSTART:20230312T100000
END:DAYLIGHT
BEGIN:STANDARD
TZOFFSETFROM:-0700
TZOFFSETTO:-0800
TZNAME:PST
DTSTART:20231105T090000
END:STANDARD
END:VTIMEZONE
BEGIN:VEVENT
DTSTART;VALUE=DATE:20230501
DTEND;VALUE=DATE:20230502
DTSTAMP:20260419T170151
CREATED:20220514T115551Z
LAST-MODIFIED:20230501T085234Z
UID:10002310-1682899200-1682985599@mces.pendleton.k12.or.us
SUMMARY:Late Start
DESCRIPTION:
URL:https://mces.pendleton.k12.or.us/event/late-start-27/
CATEGORIES:District Wide
END:VEVENT
BEGIN:VEVENT
DTSTART;TZID=America/Los_Angeles:20230503T163000
DTEND;TZID=America/Los_Angeles:20230503T190000
DTSTAMP:20260419T170151
CREATED:20230427T082022Z
LAST-MODIFIED:20230503T090452Z
UID:10002235-1683131400-1683140400@mces.pendleton.k12.or.us
SUMMARY:Farm Day
DESCRIPTION:Pendleton FFA is hosting a Farm Day from 4:30 pm-7:00 pm on May 3rd for our community. Students and kids can travel from station to station to learn about local agriculture and see some livestock animals our students raise throughout the year. There is a $5 entry fee. \nWe will also be hosting a BBQ fundraiser that will be available for purchase.
URL:https://mces.pendleton.k12.or.us/event/farm-day/
CATEGORIES:District Wide
END:VEVENT
BEGIN:VEVENT
DTSTART;VALUE=DATE:20230508
DTEND;VALUE=DATE:20230509
DTSTAMP:20260419T170151
CREATED:20220514T115551Z
LAST-MODIFIED:20230508T094011Z
UID:10002312-1683504000-1683590399@mces.pendleton.k12.or.us
SUMMARY:Late Start
DESCRIPTION:
URL:https://mces.pendleton.k12.or.us/event/late-start-28/
CATEGORIES:District Wide
END:VEVENT
BEGIN:VEVENT
DTSTART;TZID=America/Los_Angeles:20230512T160000
DTEND;TZID=America/Los_Angeles:20230512T180000
DTSTAMP:20260419T170151
CREATED:20230427T082022Z
LAST-MODIFIED:20230512T100301Z
UID:10002237-1683907200-1683914400@mces.pendleton.k12.or.us
SUMMARY:FFA Plant Sale
DESCRIPTION:The Pendleton FFA invites you to join them Mother’s Day weekend for their plant sale.  Students have been working hard the past couple of months\, taking care of flowers and plants to sell at the annual fundraiser. \n5/12/23 4:00 – 6:00 at PHS greenhouse\n5/13/23 8:00 – 12:00 at PHS greenhouse
URL:https://mces.pendleton.k12.or.us/event/ffa-plant-sale/
CATEGORIES:District Wide
END:VEVENT
BEGIN:VEVENT
DTSTART;TZID=America/Los_Angeles:20230513T080000
DTEND;TZID=America/Los_Angeles:20230513T120000
DTSTAMP:20260419T170151
CREATED:20230427T082022Z
LAST-MODIFIED:20230513T100630Z
UID:10002239-1683964800-1683979200@mces.pendleton.k12.or.us
SUMMARY:FFA Plant Sale
DESCRIPTION:The Pendleton FFA invites you to join them Mother’s Day weekend for their plant sale.  Students have been working hard the past couple of months\, taking care of flowers and plants to sell at the annual fundraiser. \n5/12/23 4:00 – 6:00 at PHS greenhouse\n5/13/23 8:00 – 12:00 at PHS greenhouse
URL:https://mces.pendleton.k12.or.us/event/ffa-plant-sale-2/
CATEGORIES:District Wide
END:VEVENT
BEGIN:VEVENT
DTSTART;VALUE=DATE:20230515
DTEND;VALUE=DATE:20230516
DTSTAMP:20260419T170151
CREATED:20220515T120235Z
LAST-MODIFIED:20230515T101607Z
UID:10002315-1684108800-1684195199@mces.pendleton.k12.or.us
SUMMARY:Late Start
DESCRIPTION:
URL:https://mces.pendleton.k12.or.us/event/late-start-29/
CATEGORIES:District Wide
END:VEVENT
BEGIN:VEVENT
DTSTART;TZID=America/Los_Angeles:20230518T190000
DTEND;TZID=America/Los_Angeles:20230518T200000
DTSTAMP:20260419T170151
CREATED:20230517T102124Z
LAST-MODIFIED:20230518T103559Z
UID:10002357-1684436400-1684440000@mces.pendleton.k12.or.us
SUMMARY:Symphony Strings
DESCRIPTION:Symphony Strings with the OES Youth Orchestra at the Vert Auditorium at 7
URL:https://mces.pendleton.k12.or.us/event/symphony-strings/
CATEGORIES:District Wide
END:VEVENT
BEGIN:VEVENT
DTSTART;VALUE=DATE:20230522
DTEND;VALUE=DATE:20230523
DTSTAMP:20260419T170151
CREATED:20220522T130457Z
LAST-MODIFIED:20230522T110653Z
UID:10002322-1684713600-1684799999@mces.pendleton.k12.or.us
SUMMARY:Late Start
DESCRIPTION:
URL:https://mces.pendleton.k12.or.us/event/late-start-30/
CATEGORIES:District Wide
END:VEVENT
BEGIN:VEVENT
DTSTART;TZID=America/Los_Angeles:20230524T190000
DTEND;TZID=America/Los_Angeles:20230524T200000
DTSTAMP:20260419T170151
CREATED:20230517T102124Z
LAST-MODIFIED:20230524T111758Z
UID:10002363-1684954800-1684958400@mces.pendleton.k12.or.us
SUMMARY:SMS/PHS Choir Concert
DESCRIPTION:SMS & PHS Combined Choir Concert in the PHS Auditorium at 7
URL:https://mces.pendleton.k12.or.us/event/sms-phs-choir-concert/
CATEGORIES:District Wide
END:VEVENT
BEGIN:VEVENT
DTSTART;VALUE=DATE:20230529
DTEND;VALUE=DATE:20230530
DTSTAMP:20260419T170151
CREATED:20220529T143406Z
LAST-MODIFIED:20230525T113603Z
UID:10002323-1685318400-1685404799@mces.pendleton.k12.or.us
SUMMARY:Memorial Day – No School
DESCRIPTION:
URL:https://mces.pendleton.k12.or.us/event/memorial-day-no-school-3/
CATEGORIES:District Wide
END:VEVENT
BEGIN:VEVENT
DTSTART;TZID=America/Los_Angeles:20230530T190000
DTEND;TZID=America/Los_Angeles:20230530T200000
DTSTAMP:20260419T170151
CREATED:20230517T102124Z
LAST-MODIFIED:20230525T113603Z
UID:10002369-1685473200-1685476800@mces.pendleton.k12.or.us
SUMMARY:SMS/PHS Instrumental Concert
DESCRIPTION:SMS & PHS Combined Instrumental Concert in PHS Auditorium at 7
URL:https://mces.pendleton.k12.or.us/event/sms-phs-instrumental-concert/
CATEGORIES:District Wide
END:VEVENT
END:VCALENDAR